BEGIN:VCALENDAR
VERSION:2.0
PRODID:-// - ECPv6.15.12.2//NONSGML v1.0//EN
CALSCALE:GREGORIAN
METHOD:PUBLISH
X-ORIGINAL-URL:https://www.mifflinccd.com
X-WR-CALDESC:Events for 
REFRESH-INTERVAL;VALUE=DURATION:PT1H
X-Robots-Tag:noindex
X-PUBLISHED-TTL:PT1H
BEGIN:VTIMEZONE
TZID:UTC
BEGIN:STANDARD
TZOFFSETFROM:+0000
TZOFFSETTO:+0000
TZNAME:UTC
DTSTART:20240101T000000
END:STANDARD
END:VTIMEZONE
BEGIN:VEVENT
DTSTART;TZID=UTC:20251118T110000
DTEND;TZID=UTC:20251118T110000
DTSTAMP:20260422T110930
CREATED:20251117T151444Z
LAST-MODIFIED:20251117T154603Z
UID:2012-1763463600-1763463600@www.mifflinccd.com
SUMMARY:MCCD November Board Meeting
DESCRIPTION:The MCCD Board Meeting will be held at the Derry Township Building @ 11:00AM. \nAgenda_11_18_25
URL:https://www.mifflinccd.com/event/mccd-november-board-meeting-5/
END:VEVENT
END:VCALENDAR