BEGIN:VCALENDAR
VERSION:2.0
PRODID:-// - ECPv6.15.12.2//NONSGML v1.0//EN
CALSCALE:GREGORIAN
METHOD:PUBLISH
X-ORIGINAL-URL:https://www.mifflinccd.com
X-WR-CALDESC:Events for 
REFRESH-INTERVAL;VALUE=DURATION:PT1H
X-Robots-Tag:noindex
X-PUBLISHED-TTL:PT1H
BEGIN:VTIMEZONE
TZID:UTC
BEGIN:STANDARD
TZOFFSETFROM:+0000
TZOFFSETTO:+0000
TZNAME:UTC
DTSTART:20240101T000000
END:STANDARD
END:VTIMEZONE
BEGIN:VEVENT
DTSTART;TZID=UTC:20250709T100000
DTEND;TZID=UTC:20250709T110000
DTSTAMP:20260422T175048
CREATED:20250624T160641Z
LAST-MODIFIED:20250624T160641Z
UID:1950-1752055200-1752058800@www.mifflinccd.com
SUMMARY:Dirt & Gravel Roads QAB Meeting
DESCRIPTION:
URL:https://www.mifflinccd.com/event/dirt-gravel-roads-qab-meeting/
END:VEVENT
END:VCALENDAR