BEGIN:VCALENDAR
VERSION:2.0
PRODID:-// - ECPv6.15.12.2//NONSGML v1.0//EN
CALSCALE:GREGORIAN
METHOD:PUBLISH
X-ORIGINAL-URL:http://www.mifflinccd.com
X-WR-CALDESC:Events for 
REFRESH-INTERVAL;VALUE=DURATION:PT1H
X-Robots-Tag:noindex
X-PUBLISHED-TTL:PT1H
BEGIN:VTIMEZONE
TZID:UTC
BEGIN:STANDARD
TZOFFSETFROM:+0000
TZOFFSETTO:+0000
TZNAME:UTC
DTSTART:20210101T000000
END:STANDARD
END:VTIMEZONE
BEGIN:VEVENT
DTSTART;TZID=UTC:20221115T100000
DTEND;TZID=UTC:20221115T233000
DTSTAMP:20260420T175116
CREATED:20221109T143736Z
LAST-MODIFIED:20221110T200533Z
UID:1342-1668506400-1668555000@www.mifflinccd.com
SUMMARY:MCCD November Board Meeting
DESCRIPTION:The MCCD Board Meeting will be held the Derry Township Building @ 10:00AM. \nAgenda_11_15_2022
URL:http://www.mifflinccd.com/event/mccd-november-board-meeting-2/
END:VEVENT
BEGIN:VEVENT
DTSTART;TZID=UTC:20221130T193000
DTEND;TZID=UTC:20221130T203000
DTSTAMP:20260420T175116
CREATED:20221122T202618Z
LAST-MODIFIED:20221122T202618Z
UID:1351-1669836600-1669840200@www.mifflinccd.com
SUMMARY:MC Agricultural Land Preservation Board
DESCRIPTION:The next meeting of the Mifflin County Agricultural Land Preservation Board will be held on November 30th @ 7:30PM at the Mifflin County Conservation District Office. \nAgland Pres Board Mtg Agenda 11_30_22
URL:http://www.mifflinccd.com/event/mc-agricultural-land-preservation-board/
END:VEVENT
END:VCALENDAR