BEGIN:VCALENDAR
VERSION:2.0
PRODID:-// - ECPv6.15.12.2//NONSGML v1.0//EN
CALSCALE:GREGORIAN
METHOD:PUBLISH
X-ORIGINAL-URL:http://www.mifflinccd.com
X-WR-CALDESC:Events for 
REFRESH-INTERVAL;VALUE=DURATION:PT1H
X-Robots-Tag:noindex
X-PUBLISHED-TTL:PT1H
BEGIN:VTIMEZONE
TZID:UTC
BEGIN:STANDARD
TZOFFSETFROM:+0000
TZOFFSETTO:+0000
TZNAME:UTC
DTSTART:20210101T000000
END:STANDARD
END:VTIMEZONE
BEGIN:VEVENT
DTSTART;TZID=UTC:20220816T193000
DTEND;TZID=UTC:20220816T203000
DTSTAMP:20260420T233241
CREATED:20220722T133417Z
LAST-MODIFIED:20220815T155944Z
UID:1318-1660678200-1660681800@www.mifflinccd.com
SUMMARY:MCCD August Board Meeting
DESCRIPTION:The MCCD Board Meeting will be held the Derry Township Building @ 7:30PM. \nAgenda_8_16_2022
URL:http://www.mifflinccd.com/event/mccd-august-board-meeting-2/
END:VEVENT
END:VCALENDAR