BEGIN:VCALENDAR
VERSION:2.0
PRODID:-// - ECPv6.15.12.2//NONSGML v1.0//EN
CALSCALE:GREGORIAN
METHOD:PUBLISH
X-ORIGINAL-URL:http://www.mifflinccd.com
X-WR-CALDESC:Events for 
REFRESH-INTERVAL;VALUE=DURATION:PT1H
X-Robots-Tag:noindex
X-PUBLISHED-TTL:PT1H
BEGIN:VTIMEZONE
TZID:UTC
BEGIN:STANDARD
TZOFFSETFROM:+0000
TZOFFSETTO:+0000
TZNAME:UTC
DTSTART:20210101T000000
END:STANDARD
END:VTIMEZONE
BEGIN:VEVENT
DTSTART;TZID=UTC:20220415T163000
DTEND;TZID=UTC:20220415T163000
DTSTAMP:20260423T114708
CREATED:20220329T133413Z
LAST-MODIFIED:20220329T133413Z
UID:1280-1650040200-1650040200@www.mifflinccd.com
SUMMARY:MCCD Summer Internship Application Deadline
DESCRIPTION:
URL:http://www.mifflinccd.com/event/mccd-summer-internship-application-deadline/
END:VEVENT
BEGIN:VEVENT
DTSTART;TZID=UTC:20220419T193000
DTEND;TZID=UTC:20220419T203000
DTSTAMP:20260423T114708
CREATED:20220329T133521Z
LAST-MODIFIED:20220329T133617Z
UID:1282-1650396600-1650400200@www.mifflinccd.com
SUMMARY:MCCD April Board Meeting
DESCRIPTION:The March meeting of the MCCD Board of Directors will be held at the Derry Township Building.
URL:http://www.mifflinccd.com/event/mccd-april-board-meeting/
END:VEVENT
BEGIN:VEVENT
DTSTART;TZID=UTC:20220427T090000
DTEND;TZID=UTC:20220428T160000
DTSTAMP:20260423T114708
CREATED:20220114T191008Z
LAST-MODIFIED:20220114T191328Z
UID:1249-1651050000-1651161600@www.mifflinccd.com
SUMMARY:Tree Sale Order Pickup
DESCRIPTION:
URL:http://www.mifflinccd.com/event/tree-sale-order-pickup/
END:VEVENT
BEGIN:VEVENT
DTSTART;TZID=UTC:20220428T090000
DTEND;TZID=UTC:20220428T160000
DTSTAMP:20260423T114708
CREATED:20220114T191215Z
LAST-MODIFIED:20220114T191215Z
UID:1251-1651136400-1651161600@www.mifflinccd.com
SUMMARY:Tree Sale Order Pickup
DESCRIPTION:
URL:http://www.mifflinccd.com/event/tree-sale-order-pickup-2/
END:VEVENT
END:VCALENDAR