BEGIN:VCALENDAR
VERSION:2.0
PRODID:-// - ECPv6.15.12.2//NONSGML v1.0//EN
CALSCALE:GREGORIAN
METHOD:PUBLISH
X-ORIGINAL-URL:http://www.mifflinccd.com
X-WR-CALDESC:Events for 
REFRESH-INTERVAL;VALUE=DURATION:PT1H
X-Robots-Tag:noindex
X-PUBLISHED-TTL:PT1H
BEGIN:VTIMEZONE
TZID:UTC
BEGIN:STANDARD
TZOFFSETFROM:+0000
TZOFFSETTO:+0000
TZNAME:UTC
DTSTART:20210101T000000
END:STANDARD
END:VTIMEZONE
BEGIN:VEVENT
DTSTART;TZID=UTC:20220211T080000
DTEND;TZID=UTC:20220211T170000
DTSTAMP:20260423T151127
CREATED:20220211T194641Z
LAST-MODIFIED:20220211T194706Z
UID:1261-1644566400-1644598800@www.mifflinccd.com
SUMMARY:MCCD March Board Meeting
DESCRIPTION:The March meeting of the MCCD Board of Directors will be held at the Derry Township Building.
URL:http://www.mifflinccd.com/event/mccd-march-board-meeting/
END:VEVENT
BEGIN:VEVENT
DTSTART;TZID=UTC:20220215T100000
DTEND;TZID=UTC:20220215T110000
DTSTAMP:20260423T151127
CREATED:20220211T194449Z
LAST-MODIFIED:20220211T194551Z
UID:1257-1644919200-1644922800@www.mifflinccd.com
SUMMARY:MCCD February Board Meeting
DESCRIPTION:Agenda_2_15_2022The February meeting of the MCCD Board of Directors will be held at the MCCD Office.
URL:http://www.mifflinccd.com/event/mccd-february-board-meeting/
END:VEVENT
END:VCALENDAR