BEGIN:VCALENDAR
VERSION:2.0
PRODID:-// - ECPv6.15.12.2//NONSGML v1.0//EN
CALSCALE:GREGORIAN
METHOD:PUBLISH
X-ORIGINAL-URL:http://www.mifflinccd.com
X-WR-CALDESC:Events for 
REFRESH-INTERVAL;VALUE=DURATION:PT1H
X-Robots-Tag:noindex
X-PUBLISHED-TTL:PT1H
BEGIN:VTIMEZONE
TZID:UTC
BEGIN:STANDARD
TZOFFSETFROM:+0000
TZOFFSETTO:+0000
TZNAME:UTC
DTSTART:20210101T000000
END:STANDARD
END:VTIMEZONE
BEGIN:VEVENT
DTSTART;TZID=UTC:20220503T090000
DTEND;TZID=UTC:20220503T160000
DTSTAMP:20260421T062028
CREATED:20220503T173615Z
LAST-MODIFIED:20220503T173615Z
UID:1288-1651568400-1651593600@www.mifflinccd.com
SUMMARY:Tree Sale Order Pick Up
DESCRIPTION:
URL:http://www.mifflinccd.com/event/tree-sale-order-pick-up/
END:VEVENT
END:VCALENDAR